BEGIN:VCALENDAR
VERSION:2.0
PRODID:icalendar-ruby
CALSCALE:GREGORIAN
METHOD:PUBLISH
BEGIN:VEVENT
DTSTAMP:20260422T093359Z
UID:11-1790488@em.logosny.org
DTSTART:20260929T003000Z
DTEND:20260929T133000Z
CLASS:PUBLIC
CREATED:20260421T202912
DESCRIPTION:
LAST-MODIFIED:20260421T202912
LOCATION:Zoom
SUMMARY:Online Prayer Meeting
URL;VALUE=URI:https://em.logosny.org/events/online-prayer-meeting/2026-09-2
 8
ATTACH;FILENAME=people-bible-hand-hands.jpg;FMTTYPE=image/jpeg:https://dq5p
 wpg1q8ru0.cloudfront.net/2022/05/31/19/22/48/aa61eb9f-aa23-40a3-946e-65280
 0379d88/people-bible-hand-hands.jpg
END:VEVENT
END:VCALENDAR
