BEGIN:VCALENDAR
VERSION:2.0
PRODID:icalendar-ruby
CALSCALE:GREGORIAN
METHOD:PUBLISH
BEGIN:VEVENT
DTSTAMP:20260421T124012Z
UID:13-1784714@em.logosny.org
DTSTART:20221126T003000Z
DTEND:20221126T023000Z
CLASS:PUBLIC
CREATED:20260421T072150
DESCRIPTION:
LAST-MODIFIED:20260421T072150
LOCATION:Room 204
SUMMARY:College Fellowship
URL;VALUE=URI:https://em.logosny.org/events/college-fellowship/2022-11-25
ATTACH;FILENAME=_X8A24721024_1.jpg;FMTTYPE=image/jpeg:https://dq5pwpg1q8ru0
 .cloudfront.net/2022/07/17/16/27/22/028ae744-2fa8-4aa2-b4fb-99df2bb758aa/_
 X8A24721024_1.jpg
END:VEVENT
END:VCALENDAR
